BEGIN:VCALENDAR
VERSION:2.0
PRODID:-//Ian Murphy - ECPv6.0.6.2//NONSGML v1.0//EN
CALSCALE:GREGORIAN
METHOD:PUBLISH
X-WR-CALNAME:Ian Murphy
X-ORIGINAL-URL:https://ianmurphycomedy.com
X-WR-CALDESC:Events for Ian Murphy
REFRESH-INTERVAL;VALUE=DURATION:PT1H
X-Robots-Tag:noindex
X-PUBLISHED-TTL:PT1H
BEGIN:VTIMEZONE
TZID:UTC
BEGIN:STANDARD
TZOFFSETFROM:+0000
TZOFFSETTO:+0000
TZNAME:UTC
DTSTART:20150101T000000
END:STANDARD
TZID:America/New_York
BEGIN:DAYLIGHT
TZOFFSETFROM:-0500
TZOFFSETTO:-0400
TZNAME:EDT
DTSTART:20150308T070000
END:DAYLIGHT
BEGIN:STANDARD
TZOFFSETFROM:-0400
TZOFFSETTO:-0500
TZNAME:EST
DTSTART:20151101T060000
END:STANDARD
END:VTIMEZONE
BEGIN:VEVENT
DTSTART;TZID=UTC:20151120T200000
DTEND;TZID=UTC:20151120T213000
DTSTAMP:20260419T223153
CREATED:20151111T203207Z
LAST-MODIFIED:20151111T203207Z
UID:83-1448049600-1448055000@ianmurphycomedy.com
SUMMARY:Greenwich Village Comedy Club
DESCRIPTION:The Clayton Fletcher Show at 8PM. Doors at 7:30. 2 Drink Minimum
URL:https://ianmurphycomedy.com/show/greenwich-village-comedy-club-3/
LOCATION:Greenwich Village Comedy Club\, 99 MACDOUGAL STREET\, NY\, NY\, 10014\, United States
END:VEVENT
BEGIN:VEVENT
DTSTART;TZID=UTC:20151113T200000
DTEND;TZID=UTC:20151113T213000
DTSTAMP:20260419T223153
CREATED:20151111T202440Z
LAST-MODIFIED:20151111T203253Z
UID:82-1447444800-1447450200@ianmurphycomedy.com
SUMMARY:Greenwich Village Comedy Club
DESCRIPTION:The Clayton Fletcher Show at 8PM. Doors at 7:30. 2 Drink Minimum \n 
URL:https://ianmurphycomedy.com/show/greenwich-village-comedy-club-11-13-15/
LOCATION:Greenwich Village Comedy Club\, 99 MACDOUGAL STREET\, NY\, NY\, 10014\, United States
END:VEVENT
BEGIN:VEVENT
DTSTART;TZID=UTC:20151010T180000
DTEND;TZID=UTC:20151010T193000
DTSTAMP:20260419T223153
CREATED:20151005T213826Z
LAST-MODIFIED:20151005T222753Z
UID:75-1444500000-1444505400@ianmurphycomedy.com
SUMMARY:The Broadway Comedy Club
DESCRIPTION:Come see Ian Murphy perform at the The Broadway Comedy Club on October 10\, 2015 at 6pm! \nNo cover! 2 drink minimum. \n 
URL:https://ianmurphycomedy.com/show/the-broadway-comedy-club/
LOCATION:The Broadway Comedy Club\, 318 W. 53rd St.\, New York\, NY\, 10019\, United States
ATTACH;FMTTYPE=image/png:https://ianmurphycomedy.com/wp-content/uploads/2015/10/Screen-Shot-2015-10-05-at-1.42.03-PM.png
END:VEVENT
BEGIN:VEVENT
DTSTART;TZID=America/New_York:20151002T200000
DTEND;TZID=America/New_York:20151002T213000
DTSTAMP:20260419T223153
CREATED:20150820T195215Z
LAST-MODIFIED:20150820T195215Z
UID:73-1443816000-1443821400@ianmurphycomedy.com
SUMMARY:The Clayton Fletcher Show
DESCRIPTION:Come out and see Ian Murphy in The Clayton Fletcher Show at the Greenwich Comedy Club. \nTickets are $20 through the link below\, and $25 at the door. With a two drink minimum. \nSeating begins at 7:30. \n\n“Come on out and yuck it up” – Shakespeare
URL:https://ianmurphycomedy.com/show/the-clayton-fletcher-show-4/
LOCATION:Greenwich Village Comedy Club\, 99 MACDOUGAL STREET\, NY\, NY\, 10014\, United States
ATTACH;FMTTYPE=image/png:https://ianmurphycomedy.com/wp-content/uploads/2015/06/Screen-Shot-2015-06-24-at-11.44.19-AM.png
END:VEVENT
BEGIN:VEVENT
DTSTART;TZID=America/New_York:20150918T200000
DTEND;TZID=America/New_York:20150918T213000
DTSTAMP:20260419T223153
CREATED:20150820T195020Z
LAST-MODIFIED:20150820T195414Z
UID:72-1442606400-1442611800@ianmurphycomedy.com
SUMMARY:The Clayton Fletcher Show
DESCRIPTION:See Ian Murphy perform stand-up in the Clayton Fletcher show at the Greenwich Village Comedy Club. \nTickets are $20 through the link below\, and $25 at the door. With a two drink minimum. \nSeating begins at 7:30.
URL:https://ianmurphycomedy.com/show/the-clayton-fletcher-show-3/
LOCATION:Greenwich Village Comedy Club\, 99 MACDOUGAL STREET\, NY\, NY\, 10014\, United States
ATTACH;FMTTYPE=image/png:https://ianmurphycomedy.com/wp-content/uploads/2015/06/Screen-Shot-2015-06-24-at-11.44.19-AM.png
END:VEVENT
BEGIN:VEVENT
DTSTART;TZID=America/New_York:20150828T200000
DTEND;TZID=America/New_York:20150828T213000
DTSTAMP:20260419T223153
CREATED:20150820T194806Z
LAST-MODIFIED:20150820T195442Z
UID:71-1440792000-1440797400@ianmurphycomedy.com
SUMMARY:The Clayton Fletcher Show
DESCRIPTION:Hi Friends! \nCome see me perform in the Clayton Fletcher show at the Greenwich Village Comedy Club. \nTickets are $20 through the link below\, and $25 at the door. With a two drink minimum. \nSeating begins at 7:30.
URL:https://ianmurphycomedy.com/show/the-clayton-fletcher-show-2/
LOCATION:Greenwich Village Comedy Club\, 99 MACDOUGAL STREET\, NY\, NY\, 10014\, United States
ATTACH;FMTTYPE=image/png:https://ianmurphycomedy.com/wp-content/uploads/2015/06/Screen-Shot-2015-06-24-at-11.44.19-AM.png
END:VEVENT
BEGIN:VEVENT
DTSTART;TZID=America/New_York:20150807T200000
DTEND;TZID=America/New_York:20150807T213000
DTSTAMP:20260419T223153
CREATED:20150731T181737Z
LAST-MODIFIED:20150731T211607Z
UID:69-1438977600-1438983000@ianmurphycomedy.com
SUMMARY:The Clayton Fletcher Show
DESCRIPTION:Hi Friends! \nCome see me perform in the Clayton Fletcher show at the Greenwich Village Comedy Club. \nTickets are $20 through the link below\, and $25 at the door. \nSeating begins at 7:30pm. There is a two drink minimum. \n\n  \n“Come on out and yuck it up” – Shakespeare
URL:https://ianmurphycomedy.com/show/the-clayton-fletcher-show/
LOCATION:Greenwich Village Comedy Club\, 99 MACDOUGAL STREET\, NY\, NY\, 10014\, United States
ATTACH;FMTTYPE=image/png:https://ianmurphycomedy.com/wp-content/uploads/2015/06/Screen-Shot-2015-06-24-at-11.44.19-AM.png
END:VEVENT
BEGIN:VEVENT
DTSTART;TZID=America/New_York:20150724T200000
DTEND;TZID=America/New_York:20150724T213000
DTSTAMP:20260419T223153
CREATED:20150624T204025Z
LAST-MODIFIED:20150630T202509Z
UID:34-1437768000-1437773400@ianmurphycomedy.com
SUMMARY:The Clayton Fletcher Show
DESCRIPTION:Hi Friends! \nCome see me perform in the Clayton Fletcher show at the Greenwich Village Comedy Club. \nTickets are $20 through the link below\, and $25 at the door. \nSeating begins at 7:30pm. There is a two drink minimum. \n\n“Come on out and yuck it up” – Shakespeare
URL:https://ianmurphycomedy.com/show/greenwich-village-comedy-club-2/
LOCATION:Greenwich Village Comedy Club\, 99 MACDOUGAL STREET\, NY\, NY\, 10014\, United States
ATTACH;FMTTYPE=image/png:https://ianmurphycomedy.com/wp-content/uploads/2015/06/Screen-Shot-2015-06-24-at-11.44.19-AM.png
END:VEVENT
BEGIN:VEVENT
DTSTART;TZID=America/New_York:20150710T200000
DTEND;TZID=America/New_York:20150710T213000
DTSTAMP:20260419T223153
CREATED:20150624T194510Z
LAST-MODIFIED:20150630T202607Z
UID:27-1436558400-1436563800@ianmurphycomedy.com
SUMMARY:The Clayton Fletcher Show
DESCRIPTION:Hi Friends! \nCome see me perform in the Clayton Fletcher show at the Greenwich Village Comedy Club. \nTickets are $20 through the link below\, and $25 at the door. With a two drink minimum. \nSeating begins at 7:30. \n\n“Come on out and yuck it up” – Shakespeare
URL:https://ianmurphycomedy.com/show/greenwich-village-comedy-club/
LOCATION:Greenwich Village Comedy Club\, 99 MACDOUGAL STREET\, NY\, NY\, 10014\, United States
ATTACH;FMTTYPE=image/png:https://ianmurphycomedy.com/wp-content/uploads/2015/06/Screen-Shot-2015-06-24-at-11.44.19-AM.png
END:VEVENT
END:VCALENDAR